BEGIN:VCALENDAR
VERSION:2.0
PRODID:-//BLUMENORT - ECPv6.15.20//NONSGML v1.0//EN
CALSCALE:GREGORIAN
METHOD:PUBLISH
X-ORIGINAL-URL:https://blumenortmb.com
X-WR-CALDESC:Events for BLUMENORT
REFRESH-INTERVAL;VALUE=DURATION:PT1H
X-Robots-Tag:noindex
X-PUBLISHED-TTL:PT1H
BEGIN:VTIMEZONE
TZID:America/Winnipeg
BEGIN:DAYLIGHT
TZOFFSETFROM:-0600
TZOFFSETTO:-0500
TZNAME:CDT
DTSTART:20200308T080000
END:DAYLIGHT
BEGIN:STANDARD
TZOFFSETFROM:-0500
TZOFFSETTO:-0600
TZNAME:CST
DTSTART:20201101T070000
END:STANDARD
BEGIN:DAYLIGHT
TZOFFSETFROM:-0600
TZOFFSETTO:-0500
TZNAME:CDT
DTSTART:20210314T080000
END:DAYLIGHT
BEGIN:STANDARD
TZOFFSETFROM:-0500
TZOFFSETTO:-0600
TZNAME:CST
DTSTART:20211107T070000
END:STANDARD
BEGIN:DAYLIGHT
TZOFFSETFROM:-0600
TZOFFSETTO:-0500
TZNAME:CDT
DTSTART:20220313T080000
END:DAYLIGHT
BEGIN:STANDARD
TZOFFSETFROM:-0500
TZOFFSETTO:-0600
TZNAME:CST
DTSTART:20221106T070000
END:STANDARD
END:VTIMEZONE
BEGIN:VEVENT
DTSTART;TZID=America/Winnipeg:20210225T140000
DTEND;TZID=America/Winnipeg:20210225T160000
DTSTAMP:20260419T084018
CREATED:20210210T032138Z
LAST-MODIFIED:20210210T032138Z
UID:1859-1614261600-1614268800@blumenortmb.com
SUMMARY:Outdoor Rink Rental - Blumenort School
DESCRIPTION:
URL:https://blumenortmb.com/event/outdoor-rink-rental-blumenort-school-3/
LOCATION:Outdoor Rink
END:VEVENT
BEGIN:VEVENT
DTSTART;TZID=America/Winnipeg:20210219T140000
DTEND;TZID=America/Winnipeg:20210219T160000
DTSTAMP:20260419T084018
CREATED:20210210T032013Z
LAST-MODIFIED:20210210T032013Z
UID:1857-1613743200-1613750400@blumenortmb.com
SUMMARY:Outdoor Rink Rental - Blumenort School
DESCRIPTION:
URL:https://blumenortmb.com/event/outdoor-rink-rental-blumenort-school-2/
LOCATION:Outdoor Rink
END:VEVENT
BEGIN:VEVENT
DTSTART;TZID=America/Winnipeg:20210201T130000
DTEND;TZID=America/Winnipeg:20210201T160000
DTSTAMP:20260419T084018
CREATED:20210129T200742Z
LAST-MODIFIED:20210129T200742Z
UID:1842-1612184400-1612195200@blumenortmb.com
SUMMARY:Outdoor Rink Rental - Blumenort School
DESCRIPTION:
URL:https://blumenortmb.com/event/outdoor-rink-rental-blumenort-school/2021-02-01/
LOCATION:Outdoor Rink
CATEGORIES:General,Outdoor Rink
END:VEVENT
END:VCALENDAR